Name | Last modified | Size | Description | |
---|---|---|---|---|
Parent Directory | - | |||
buildbin-out.txt | 05-May-2024 00:39 | 21K | ||
buildbin-summary.dcf | 05-May-2024 00:39 | 522 | ||
buildsrc-out.txt | 05-May-2024 00:39 | 904 | ||
buildsrc-summary.dcf | 05-May-2024 00:39 | 423 | ||
checksrc-out.txt | 05-May-2024 00:39 | 9.1K | ||
checksrc-summary.dcf | 05-May-2024 00:39 | 438 | ||
install-out.txt | 05-May-2024 00:39 | 18K | ||
install-summary.dcf | 05-May-2024 00:39 | 267 | ||