Name | Last modified | Size | Description | |
---|---|---|---|---|
Parent Directory | - | |||
buildbin-out.txt | 12-Jun-2024 03:44 | 1.2K | ||
buildbin-summary.dcf | 12-Jun-2024 03:44 | 545 | ||
buildsrc-out.txt | 12-Jun-2024 03:44 | 890 | ||
buildsrc-summary.dcf | 12-Jun-2024 03:44 | 435 | ||
checksrc-out.txt | 12-Jun-2024 03:44 | 13K | ||
checksrc-summary.dcf | 12-Jun-2024 03:44 | 454 | ||
install-out.txt | 12-Jun-2024 03:44 | 1.0K | ||
install-summary.dcf | 12-Jun-2024 03:44 | 274 | ||