Back to Multiple platform build/check report for BioC 3.14
ABCDEFGHIJKLMNOPQR[S]TUVWXYZ

This page was generated on 2021-12-03 13:05:32 -0500 (Fri, 03 Dec 2021).

BUILD BIN results for scMerge on tokay2

To the developers/maintainers of the scMerge package:
- Please allow up to 24 hours (and sometimes 48 hours) for your latest push to git@git.bioconductor.org:packages/scMerge.git to
reflect on this report. See How and When does the builder pull? When will my changes propagate? here for more information.
- Make sure to use the following settings in order to reproduce any error or warning you see on this page.

raw results

Package 1730/2083HostnameOS / ArchINSTALLBUILDCHECKBUILD BIN
scMerge 1.10.0  (landing page)
Yingxin Lin
Snapshot Date: 2021-12-02 01:55:06 -0500 (Thu, 02 Dec 2021)
git_url: https://git.bioconductor.org/packages/scMerge
git_branch: RELEASE_3_14
git_last_commit: 8a5a638
git_last_commit_date: 2021-10-26 12:51:33 -0500 (Tue, 26 Oct 2021)
nebbiolo2Linux (Ubuntu 20.04.3 LTS) / x86_64  OK    OK    OK  UNNEEDED, same version is already published
tokay2Windows Server 2012 R2 Standard / x64  OK    OK    OK    OK  UNNEEDED, same version is already published
machv2macOS 10.14.6 Mojave / x86_64  OK    OK    OK    OK  UNNEEDED, same version is already published

Summary

Package: scMerge
Version: 1.10.0
Command: rm -rf scMerge.buildbin-libdir && mkdir scMerge.buildbin-libdir && C:\Users\biocbuild\bbs-3.14-bioc\R\bin\R.exe CMD INSTALL --merge-multiarch --build --library=scMerge.buildbin-libdir scMerge_1.10.0.tar.gz
StartedAt: 2021-12-03 10:05:37 -0500 (Fri, 03 Dec 2021)
EndedAt: 2021-12-03 10:06:54 -0500 (Fri, 03 Dec 2021)
EllapsedTime: 76.7 seconds
RetCode: 0
Status:   OK  
PackageFile: scMerge_1.10.0.zip
PackageFileSize: 2.233 MiB

Command output

##############################################################################
##############################################################################
###
### Running command:
###
###   rm -rf scMerge.buildbin-libdir && mkdir scMerge.buildbin-libdir && C:\Users\biocbuild\bbs-3.14-bioc\R\bin\R.exe CMD INSTALL --merge-multiarch --build --library=scMerge.buildbin-libdir scMerge_1.10.0.tar.gz
###
##############################################################################
##############################################################################



install for i386

* installing *source* package 'scMerge' ...
** using staged installation
** R
** data
** inst
** byte-compile and prepare package for lazy loading
** help
*** installing help indices
  converting help for package 'scMerge'
    finding HTML links ... done
    example_sce                             html  
    fastRUVIII                              html  
    ruvSimulate                             html  
    scMerge                                 html  
    scRUVIII                                html  
    scRUVg                                  html  
    scReplicate                             html  
    scSEGIndex                              html  
    sce_cbind                               html  
    segList                                 html  
    segList_ensemblGeneID                   html  
** building package indices
** installing vignettes
** testing if installed package can be loaded from temporary location
** testing if installed package can be loaded from final location
** testing if installed package keeps a record of temporary installation path

install for x64

* installing *source* package 'scMerge' ...
** testing if installed package can be loaded
* MD5 sums
packaged installation of 'scMerge' as scMerge_1.10.0.zip
* DONE (scMerge)