Index of /checkResults/release/bioc-LATEST/scMerge/raw-results/riesling1

[ICO]NameLast modifiedSizeDescription

[DIR]Parent Directory  -  
[TXT]buildbin-out.txt05-Jan-2022 01:06 1.7K 
[   ]buildbin-summary.dcf05-Jan-2022 01:06 515  
[TXT]buildsrc-out.txt19-Mar-2022 00:08 1.0K 
[   ]buildsrc-summary.dcf19-Mar-2022 00:08 368  
[TXT]checksrc-out.txt05-Jan-2022 01:06 3.3K 
[   ]checksrc-summary.dcf05-Jan-2022 01:06 447  
[TXT]install-out.txt19-Mar-2022 00:08 822  
[   ]install-summary.dcf19-Mar-2022 00:08 271