Index of /checkResults/release/bioc-LATEST/scMerge/raw-results/palomino3

[ICO]NameLast modifiedSizeDescription

[DIR]Parent Directory  -  
[TXT]buildbin-out.txt02-Jul-2022 01:07 1.1K 
[   ]buildbin-summary.dcf02-Jul-2022 01:07 515  
[TXT]buildsrc-out.txt02-Jul-2022 01:07 899  
[   ]buildsrc-summary.dcf02-Jul-2022 01:07 451  
[TXT]checksrc-out.txt02-Jul-2022 01:07 3.3K 
[   ]checksrc-summary.dcf02-Jul-2022 01:07 447  
[TXT]install-out.txt02-Jul-2022 01:07 971  
[   ]install-summary.dcf02-Jul-2022 01:07 268