Index of /checkResults/release/bioc-LATEST/scMET/raw-results/nebbiolo2

[ICO]NameLast modifiedSizeDescription

[DIR]Parent Directory  -  
[TXT]buildsrc-out.txt03-Mar-2024 01:36 827  
[   ]buildsrc-summary.dcf03-Mar-2024 01:36 410  
[TXT]checksrc-out.txt03-Mar-2024 01:36 4.7K 
[   ]checksrc-summary.dcf03-Mar-2024 01:36 404  
[TXT]install-out.txt03-Mar-2024 01:36 3.3M 
[   ]install-summary.dcf03-Mar-2024 01:36 255