Index of /checkResults/release/bioc-LATEST/scMET/raw-results/lconway

[ICO]NameLast modifiedSizeDescription

[DIR]Parent Directory  -  
[TXT]buildbin-out.txt01-Mar-2024 01:38 15K 
[   ]buildbin-summary.dcf01-Mar-2024 01:38 516  
[TXT]buildsrc-out.txt01-Mar-2024 01:38 837  
[   ]buildsrc-summary.dcf01-Mar-2024 01:38 420  
[TXT]checksrc-out.txt01-Mar-2024 01:38 4.6K 
[   ]checksrc-summary.dcf01-Mar-2024 01:38 434  
[TXT]install-out.txt01-Mar-2024 01:38 42K 
[   ]install-summary.dcf01-Mar-2024 01:38 265