Index of /checkResults/release/bioc-LATEST/scMET/raw-results/kunpeng2

[ICO]NameLast modifiedSizeDescription

[DIR]Parent Directory  -  
[   ]install-summary.dcf03-Nov-2023 00:41 249  
[TXT]install-out.txt03-Nov-2023 00:41 87K 
[   ]checksrc-summary.dcf03-Nov-2023 00:41 407  
[TXT]checksrc-out.txt03-Nov-2023 00:41 4.6K 
[   ]buildsrc-summary.dcf03-Nov-2023 00:41 404  
[TXT]buildsrc-out.txt03-Nov-2023 00:41 821