![]() | Name | Last modified | Size | Description |
---|---|---|---|---|
![]() | Parent Directory | - | ||
![]() | buildbin-out.txt | 06-May-2022 01:47 | 1.1K | |
![]() | buildbin-summary.dcf | 06-May-2022 01:47 | 518 | |
![]() | buildsrc-out.txt | 02-Jul-2022 01:07 | 1.4K | |
![]() | buildsrc-summary.dcf | 02-Jul-2022 01:07 | 370 | |
![]() | checksrc-out.txt | 06-May-2022 01:47 | 8.5K | |
![]() | checksrc-summary.dcf | 06-May-2022 01:47 | 455 | |
![]() | install-out.txt | 02-Jul-2022 01:07 | 1.1K | |
![]() | install-summary.dcf | 02-Jul-2022 01:07 | 272 | |