Index of /checkResults/release/bioc-LATEST/scMAGeCK/raw-results/nebbiolo1

[ICO]NameLast modifiedSizeDescription

[DIR]Parent Directory  -  
[TXT]buildsrc-out.txt02-Jul-2022 01:05 1.3K 
[   ]buildsrc-summary.dcf02-Jul-2022 01:05 334  
[TXT]checksrc-out.txt06-May-2022 01:45 8.6K 
[   ]checksrc-summary.dcf06-May-2022 01:45 432  
[TXT]install-out.txt02-Jul-2022 01:05 1.0K 
[   ]install-summary.dcf02-Jul-2022 01:05 263