Index of /checkResults/release/bioc-LATEST/scMAGeCK/raw-results/merida1

[ICO]NameLast modifiedSizeDescription

[DIR]Parent Directory  -  
[TXT]buildbin-out.txt06-May-2022 01:48 1.1K 
[   ]buildbin-summary.dcf06-May-2022 01:48 533  
[TXT]buildsrc-out.txt02-Jul-2022 01:08 1.3K 
[   ]buildsrc-summary.dcf02-Jul-2022 01:08 344  
[TXT]checksrc-out.txt06-May-2022 01:48 8.7K 
[   ]checksrc-summary.dcf06-May-2022 01:48 452  
[TXT]install-out.txt02-Jul-2022 01:08 1.1K 
[   ]install-summary.dcf02-Jul-2022 01:08 273