Name | Last modified | Size | Description | |
---|---|---|---|---|
Parent Directory | - | |||
buildbin-summary.dcf | 29-Jun-2024 06:42 | 504 | ||
buildbin-out.txt | 29-Jun-2024 06:42 | 3.2K | ||
checksrc-out.txt | 29-Jun-2024 06:42 | 5.2K | ||
checksrc-summary.dcf | 29-Jun-2024 06:42 | 439 | ||
buildsrc-out.txt | 29-Jun-2024 06:42 | 861 | ||
buildsrc-summary.dcf | 29-Jun-2024 06:42 | 445 | ||
install-out.txt | 29-Jun-2024 06:42 | 3.1K | ||
install-summary.dcf | 29-Jun-2024 06:42 | 264 | ||