Index of /checkResults/release/bioc-LATEST/scFeatures/raw-results/palomino3

[ICO]NameLast modifiedSizeDescription

[DIR]Parent Directory  -  
[TXT]buildbin-out.txt15-Jun-2024 03:38 1.1K 
[   ]buildbin-summary.dcf15-Jun-2024 03:38 531  
[TXT]buildsrc-out.txt15-Jun-2024 03:38 913  
[   ]buildsrc-summary.dcf15-Jun-2024 03:38 463  
[TXT]checksrc-out.txt15-Jun-2024 03:38 4.0K 
[   ]checksrc-summary.dcf15-Jun-2024 03:38 457  
[TXT]install-out.txt15-Jun-2024 03:38 1.0K 
[   ]install-summary.dcf15-Jun-2024 03:38 274