Name | Last modified | Size | Description | |
---|---|---|---|---|
Parent Directory | - | |||
checksrc-out.txt | 26-Jun-2024 06:39 | 3.8K | ||
install-out.txt | 26-Jun-2024 06:39 | 1.0K | ||
buildsrc-out.txt | 26-Jun-2024 06:39 | 838 | ||
checksrc-summary.dcf | 26-Jun-2024 06:39 | 446 | ||
buildsrc-summary.dcf | 26-Jun-2024 06:39 | 442 | ||
install-summary.dcf | 26-Jun-2024 06:39 | 274 | ||