Name | Last modified | Size | Description | |
---|---|---|---|---|
Parent Directory | - | |||
install-summary.dcf | 19-May-2024 00:38 | 284 | ||
buildsrc-summary.dcf | 19-May-2024 00:38 | 452 | ||
checksrc-summary.dcf | 19-May-2024 00:38 | 476 | ||
buildbin-summary.dcf | 19-May-2024 00:38 | 578 | ||
buildsrc-out.txt | 19-May-2024 00:38 | 848 | ||
install-out.txt | 19-May-2024 00:38 | 1.0K | ||
buildbin-out.txt | 19-May-2024 00:38 | 1.2K | ||
checksrc-out.txt | 19-May-2024 00:38 | 3.9K | ||