Name | Last modified | Size | Description | |
---|---|---|---|---|
Parent Directory | - | |||
install-summary.dcf | 17-Jul-2024 06:40 | 271 | ||
install-out.txt | 17-Jul-2024 06:40 | 1.0K | ||
checksrc-summary.dcf | 17-Jul-2024 06:40 | 453 | ||
checksrc-out.txt | 17-Jul-2024 06:40 | 3.6K | ||
buildsrc-summary.dcf | 17-Jul-2024 06:40 | 459 | ||
buildsrc-out.txt | 17-Jul-2024 06:40 | 908 | ||
buildbin-summary.dcf | 17-Jul-2024 06:40 | 524 | ||
buildbin-out.txt | 17-Jul-2024 06:40 | 1.1K | ||