Back to Multiple platform build/check report for BioC 3.14
ABCDEFGHIJKLMNOPQR[S]TUVWXYZ

This page was generated on 2021-11-29 15:05:39 -0500 (Mon, 29 Nov 2021).

CHECK results for scDblFinder on tokay2

To the developers/maintainers of the scDblFinder package:
- Please allow up to 24 hours (and sometimes 48 hours) for your latest push to git@git.bioconductor.org:packages/scDblFinder.git to
reflect on this report. See How and When does the builder pull? When will my changes propagate? here for more information.
- Make sure to use the following settings in order to reproduce any error or warning you see on this page.

raw results

Package 1718/2083HostnameOS / ArchINSTALLBUILDCHECKBUILD BIN
scDblFinder 1.8.0  (landing page)
Pierre-Luc Germain
Snapshot Date: 2021-11-28 04:15:06 -0500 (Sun, 28 Nov 2021)
git_url: https://git.bioconductor.org/packages/scDblFinder
git_branch: RELEASE_3_14
git_last_commit: bd1331d
git_last_commit_date: 2021-10-26 12:55:40 -0500 (Tue, 26 Oct 2021)
nebbiolo2Linux (Ubuntu 20.04.3 LTS) / x86_64  OK    OK    OK  UNNEEDED, same version is already published
tokay2Windows Server 2012 R2 Standard / x64  OK    OK    OK    OK  UNNEEDED, same version is already published
machv2macOS 10.14.6 Mojave / x86_64  OK    OK    OK    OK  UNNEEDED, same version is already published

Summary

Package: scDblFinder
Version: 1.8.0
Command: C:\Users\biocbuild\bbs-3.14-bioc\R\bin\R.exe CMD check --force-multiarch --install=check:scDblFinder.install-out.txt --library=C:\Users\biocbuild\bbs-3.14-bioc\R\library --no-vignettes --timings scDblFinder_1.8.0.tar.gz
StartedAt: 2021-11-29 04:33:17 -0500 (Mon, 29 Nov 2021)
EndedAt: 2021-11-29 04:41:03 -0500 (Mon, 29 Nov 2021)
EllapsedTime: 465.8 seconds
RetCode: 0
Status:   OK  
CheckDir: scDblFinder.Rcheck
Warnings: 0

Command output

##############################################################################
##############################################################################
###
### Running command:
###
###   C:\Users\biocbuild\bbs-3.14-bioc\R\bin\R.exe CMD check --force-multiarch --install=check:scDblFinder.install-out.txt --library=C:\Users\biocbuild\bbs-3.14-bioc\R\library --no-vignettes --timings scDblFinder_1.8.0.tar.gz
###
##############################################################################
##############################################################################


* using log directory 'C:/Users/biocbuild/bbs-3.14-bioc/meat/scDblFinder.Rcheck'
* using R version 4.1.2 (2021-11-01)
* using platform: x86_64-w64-mingw32 (64-bit)
* using session charset: ISO8859-1
* using option '--no-vignettes'
* checking for file 'scDblFinder/DESCRIPTION' ... OK
* checking extension type ... Package
* this is package 'scDblFinder' version '1.8.0'
* package encoding: UTF-8
* checking package namespace information ... OK
* checking package dependencies ... OK
* checking if this is a source package ... OK
* checking if there is a namespace ... OK
* checking for hidden files and directories ... OK
* checking for portable file names ... OK
* checking whether package 'scDblFinder' can be installed ... OK
* checking installed package size ... OK
* checking package directory ... OK
* checking 'build' directory ... OK
* checking DESCRIPTION meta-information ... NOTE
Package listed in more than one of Depends, Imports, Suggests, Enhances:
  'MASS'
A package should be listed in only one of these fields.
* checking top-level files ... NOTE
File
  LICENSE
is not mentioned in the DESCRIPTION file.
* checking for left-over files ... OK
* checking index information ... OK
* checking package subdirectories ... OK
* checking R files for non-ASCII characters ... OK
* checking R files for syntax errors ... OK
* loading checks for arch 'i386'
** checking whether the package can be loaded ... OK
** checking whether the package can be loaded with stated dependencies ... OK
** checking whether the package can be unloaded cleanly ... OK
** checking whether the namespace can be loaded with stated dependencies ... OK
** checking whether the namespace can be unloaded cleanly ... OK
* loading checks for arch 'x64'
** checking whether the package can be loaded ... OK
** checking whether the package can be loaded with stated dependencies ... OK
** checking whether the package can be unloaded cleanly ... OK
** checking whether the namespace can be loaded with stated dependencies ... OK
** checking whether the namespace can be unloaded cleanly ... OK
* checking dependencies in R code ... NOTE
'library' or 'require' call to 'mbkmeans' in package code.
  Please use :: or requireNamespace() instead.
  See section 'Suggested packages' in the 'Writing R Extensions' manual.
* checking S3 generic/method consistency ... OK
* checking replacement functions ... OK
* checking foreign function calls ... OK
* checking R code for possible problems ... NOTE
plotThresholds: no visible binding for global variable 'threshold'
plotThresholds: no visible binding for global variable 'value'
plotThresholds: no visible binding for global variable 'variable'
Undefined global functions or variables:
  threshold value variable
* checking Rd files ... OK
* checking Rd metadata ... OK
* checking Rd cross-references ... OK
* checking for missing documentation entries ... OK
* checking for code/documentation mismatches ... OK
* checking Rd \usage sections ... OK
* checking Rd contents ... OK
* checking for unstated dependencies in examples ... OK
* checking contents of 'data' directory ... OK
* checking data for non-ASCII characters ... OK
* checking data for ASCII and uncompressed saves ... OK
* checking files in 'vignettes' ... OK
* checking examples ...
** running examples for arch 'i386' ... OK
Examples with CPU (user + system) or elapsed time > 5s
                           user system elapsed
scDblFinder               12.49   0.39   12.86
doubletThresholding       12.17   0.47   12.63
clusterStickiness          6.72   0.09    6.82
doubletPairwiseEnrichment  5.11   0.14    5.25
** running examples for arch 'x64' ... OK
Examples with CPU (user + system) or elapsed time > 5s
                           user system elapsed
scDblFinder               10.28   0.35   10.63
doubletThresholding        9.71   0.31   10.01
clusterStickiness          6.26   0.17    6.44
doubletPairwiseEnrichment  5.89   0.08    5.97
* checking for unstated dependencies in 'tests' ... OK
* checking tests ...
** running tests for arch 'i386' ...
  Running 'testthat.R'
 OK
** running tests for arch 'x64' ...
  Running 'testthat.R'
 OK
* checking for unstated dependencies in vignettes ... OK
* checking package vignettes in 'inst/doc' ... OK
* checking running R code from vignettes ... SKIPPED
* checking re-building of vignette outputs ... SKIPPED
* checking PDF version of manual ... OK
* DONE

Status: 4 NOTEs
See
  'C:/Users/biocbuild/bbs-3.14-bioc/meat/scDblFinder.Rcheck/00check.log'
for details.



Installation output

scDblFinder.Rcheck/00install.out

##############################################################################
##############################################################################
###
### Running command:
###
###   C:\cygwin\bin\curl.exe -O http://155.52.207.166/BBS/3.14/bioc/src/contrib/scDblFinder_1.8.0.tar.gz && rm -rf scDblFinder.buildbin-libdir && mkdir scDblFinder.buildbin-libdir && C:\Users\biocbuild\bbs-3.14-bioc\R\bin\R.exe CMD INSTALL --merge-multiarch --build --library=scDblFinder.buildbin-libdir scDblFinder_1.8.0.tar.gz && C:\Users\biocbuild\bbs-3.14-bioc\R\bin\R.exe CMD INSTALL scDblFinder_1.8.0.zip && rm scDblFinder_1.8.0.tar.gz scDblFinder_1.8.0.zip
###
##############################################################################
##############################################################################


  % Total    % Received % Xferd  Average Speed   Time    Time     Time  Current
                                 Dload  Upload   Total   Spent    Left  Speed

  0     0    0     0    0     0      0      0 --:--:-- --:--:-- --:--:--     0
 45  865k   45  391k    0     0  1305k      0 --:--:-- --:--:-- --:--:-- 1305k
100  865k  100  865k    0     0  2279k      0 --:--:-- --:--:-- --:--:-- 2277k

install for i386

* installing *source* package 'scDblFinder' ...
** using staged installation
** R
** data
** inst
** byte-compile and prepare package for lazy loading
** help
*** installing help indices
  converting help for package 'scDblFinder'
    finding HTML links ... done
    TFIDF                                   html  
    addDoublets                             html  
    aggregateFeatures                       html  
    clusterStickiness                       html  
    computeDoubletDensity                   html  
    finding level-2 HTML links ... done

    createDoublets                          html  
    cxds2                                   html  
    data                                    html  
    directDblClassification                 html  
    doubletPairwiseEnrichment               html  
    doubletThresholding                     html  
    fastcluster                             html  
    findDoubletClusters                     html  
    getArtificialDoublets                   html  
    getCellPairs                            html  
    getExpectedDoublets                     html  
    mockDoubletSCE                          html  
    plotDoubletMap                          html  
    plotThresholds                          html  
    propHomotypic                           html  
    recoverDoublets                         html  
    scDblFinder                             html  
    selFeatures                             html  
** building package indices
** installing vignettes
** testing if installed package can be loaded from temporary location
** testing if installed package can be loaded from final location
** testing if installed package keeps a record of temporary installation path

install for x64

* installing *source* package 'scDblFinder' ...
** testing if installed package can be loaded
* MD5 sums
packaged installation of 'scDblFinder' as scDblFinder_1.8.0.zip
* DONE (scDblFinder)
* installing to library 'C:/Users/biocbuild/bbs-3.14-bioc/R/library'
package 'scDblFinder' successfully unpacked and MD5 sums checked

Tests output

scDblFinder.Rcheck/tests_i386/testthat.Rout


R version 4.1.2 (2021-11-01) -- "Bird Hippie"
Copyright (C) 2021 The R Foundation for Statistical Computing
Platform: i386-w64-mingw32/i386 (32-bit)

R is free software and comes with ABSOLUTELY NO WARRANTY.
You are welcome to redistribute it under certain conditions.
Type 'license()' or 'licence()' for distribution details.

R is a collaborative project with many contributors.
Type 'contributors()' for more information and
'citation()' on how to cite R or R packages in publications.

Type 'demo()' for some demos, 'help()' for on-line help, or
'help.start()' for an HTML browser interface to help.
Type 'q()' to quit R.

> library(testthat)
> library(scDblFinder)
> test_check("scDblFinder")
[ FAIL 0 | WARN 8 | SKIP 0 | PASS 100 ]
> 
> proc.time()
   user  system elapsed 
  52.68    2.14   54.82 

scDblFinder.Rcheck/tests_x64/testthat.Rout


R version 4.1.2 (2021-11-01) -- "Bird Hippie"
Copyright (C) 2021 The R Foundation for Statistical Computing
Platform: x86_64-w64-mingw32/x64 (64-bit)

R is free software and comes with ABSOLUTELY NO WARRANTY.
You are welcome to redistribute it under certain conditions.
Type 'license()' or 'licence()' for distribution details.

R is a collaborative project with many contributors.
Type 'contributors()' for more information and
'citation()' on how to cite R or R packages in publications.

Type 'demo()' for some demos, 'help()' for on-line help, or
'help.start()' for an HTML browser interface to help.
Type 'q()' to quit R.

> library(testthat)
> library(scDblFinder)
> test_check("scDblFinder")
[ FAIL 0 | WARN 8 | SKIP 0 | PASS 100 ]
> 
> proc.time()
   user  system elapsed 
  56.67    1.29   57.96 

Example timings

scDblFinder.Rcheck/examples_i386/scDblFinder-Ex.timings

nameusersystemelapsed
TFIDF0.060.000.06
addDoublets0.880.030.91
clusterStickiness6.720.096.82
computeDoubletDensity3.350.143.48
createDoublets0.720.030.75
cxds20.780.020.80
directDblClassification3.400.143.54
doubletPairwiseEnrichment5.110.145.25
doubletThresholding12.17 0.4712.63
fastcluster2.090.012.10
findDoubletClusters2.070.002.07
getArtificialDoublets000
getCellPairs0.020.000.02
getExpectedDoublets000
mockDoubletSCE0.840.000.84
propHomotypic000
recoverDoublets0.140.000.14
scDblFinder12.49 0.3912.86
selFeatures0.890.000.89

scDblFinder.Rcheck/examples_x64/scDblFinder-Ex.timings

nameusersystemelapsed
TFIDF0.040.010.06
addDoublets1.850.021.86
clusterStickiness6.260.176.44
computeDoubletDensity4.020.164.20
createDoublets0.980.000.99
cxds21.600.011.61
directDblClassification3.730.143.87
doubletPairwiseEnrichment5.890.085.97
doubletThresholding 9.71 0.3110.01
fastcluster1.590.031.63
findDoubletClusters1.890.021.91
getArtificialDoublets000
getCellPairs0.020.000.01
getExpectedDoublets000
mockDoubletSCE0.790.000.80
propHomotypic000
recoverDoublets0.130.030.15
scDblFinder10.28 0.3510.63
selFeatures0.900.030.94