Back to Multiple platform build/check report for BioC 3.14
ABCDEFGHIJKLMNOPQR[S]TUVWXYZ

This page was generated on 2021-11-29 15:05:39 -0500 (Mon, 29 Nov 2021).

BUILD results for scDblFinder on tokay2

To the developers/maintainers of the scDblFinder package:
- Please allow up to 24 hours (and sometimes 48 hours) for your latest push to git@git.bioconductor.org:packages/scDblFinder.git to
reflect on this report. See How and When does the builder pull? When will my changes propagate? here for more information.
- Make sure to use the following settings in order to reproduce any error or warning you see on this page.

raw results

Package 1718/2083HostnameOS / ArchINSTALLBUILDCHECKBUILD BIN
scDblFinder 1.8.0  (landing page)
Pierre-Luc Germain
Snapshot Date: 2021-11-28 04:15:06 -0500 (Sun, 28 Nov 2021)
git_url: https://git.bioconductor.org/packages/scDblFinder
git_branch: RELEASE_3_14
git_last_commit: bd1331d
git_last_commit_date: 2021-10-26 12:55:40 -0500 (Tue, 26 Oct 2021)
nebbiolo2Linux (Ubuntu 20.04.3 LTS) / x86_64  OK    OK    OK  UNNEEDED, same version is already published
tokay2Windows Server 2012 R2 Standard / x64  OK    OK    OK    OK  UNNEEDED, same version is already published
machv2macOS 10.14.6 Mojave / x86_64  OK    OK    OK    OK  UNNEEDED, same version is already published

Summary

Package: scDblFinder
Version: 1.8.0
Command: chmod a+r scDblFinder -R && C:\Users\biocbuild\bbs-3.14-bioc\R\bin\R.exe CMD build --keep-empty-dirs --no-resave-data scDblFinder
StartedAt: 2021-11-28 16:18:25 -0500 (Sun, 28 Nov 2021)
EndedAt: 2021-11-28 16:21:23 -0500 (Sun, 28 Nov 2021)
EllapsedTime: 177.5 seconds
RetCode: 0
Status:   OK  
PackageFile: scDblFinder_1.8.0.tar.gz
PackageFileSize: 2.062 MiB

Command output

##############################################################################
##############################################################################
###
### Running command:
###
###   chmod a+r scDblFinder -R && C:\Users\biocbuild\bbs-3.14-bioc\R\bin\R.exe CMD build --keep-empty-dirs --no-resave-data scDblFinder
###
##############################################################################
##############################################################################


* checking for file 'scDblFinder/DESCRIPTION' ... OK
* preparing 'scDblFinder':
* checking DESCRIPTION meta-information ... OK
* installing the package to build vignettes
* creating vignettes ... OK
* checking for LF line-endings in source and make files and shell scripts
* checking for empty or unneeded directories
* looking to see if a 'data/datalist' file should be added
* building 'scDblFinder_1.8.0.tar.gz'