Name | Last modified | Size | Description | |
---|---|---|---|---|
Parent Directory | - | |||
checksrc-out.txt | 28-May-2024 00:36 | 7.4K | ||
buildsrc-out.txt | 12-Jun-2024 03:43 | 1.4K | ||
buildbin-out.txt | 28-May-2024 00:36 | 1.1K | ||
install-out.txt | 12-Jun-2024 03:43 | 1.0K | ||
buildbin-summary.dcf | 28-May-2024 00:36 | 511 | ||
checksrc-summary.dcf | 28-May-2024 00:36 | 432 | ||
buildsrc-summary.dcf | 12-Jun-2024 03:43 | 338 | ||
install-summary.dcf | 12-Jun-2024 03:43 | 263 | ||