Name | Last modified | Size | Description | |
---|---|---|---|---|
Parent Directory | - | |||
checksrc-out.txt | 17-Jul-2024 06:41 | 3.8K | ||
buildbin-out.txt | 17-Jul-2024 06:41 | 1.2K | ||
install-out.txt | 17-Jul-2024 06:41 | 1.0K | ||
buildsrc-out.txt | 17-Jul-2024 06:41 | 898 | ||
buildbin-summary.dcf | 17-Jul-2024 06:41 | 557 | ||
checksrc-summary.dcf | 17-Jul-2024 06:41 | 462 | ||
buildsrc-summary.dcf | 17-Jul-2024 06:41 | 441 | ||
install-summary.dcf | 17-Jul-2024 06:41 | 278 | ||