Name | Last modified | Size | Description | |
---|---|---|---|---|
Parent Directory | - | |||
checksrc-out.txt | 10-May-2024 00:41 | 5.6K | ||
install-out.txt | 10-May-2024 00:41 | 1.0K | ||
buildsrc-out.txt | 10-May-2024 00:41 | 809 | ||
checksrc-summary.dcf | 10-May-2024 00:41 | 443 | ||
buildsrc-summary.dcf | 10-May-2024 00:41 | 422 | ||
install-summary.dcf | 10-May-2024 00:41 | 266 | ||