Index of /checkResults/release/bioc-LATEST/savR/raw-results/nebbiolo2
Name
Last modified
Size
Description
Parent Directory
-
buildsrc-out.txt
21-Apr-2023 01:50
1.1K
buildsrc-summary.dcf
21-Apr-2023 01:50
327
install-out.txt
21-Apr-2023 01:50
1.1K
install-summary.dcf
21-Apr-2023 01:50
252