Name | Last modified | Size | Description | |
---|---|---|---|---|
Parent Directory | - | |||
install-summary.dcf | 29-Jun-2024 06:44 | 265 | ||
install-out.txt | 29-Jun-2024 06:44 | 1.3K | ||
checksrc-summary.dcf | 29-Jun-2024 06:44 | 441 | ||
checksrc-out.txt | 29-Jun-2024 06:44 | 4.5K | ||
buildsrc-summary.dcf | 29-Jun-2024 06:44 | 420 | ||
buildsrc-out.txt | 29-Jun-2024 06:44 | 870 | ||
buildbin-summary.dcf | 29-Jun-2024 06:44 | 516 | ||
buildbin-out.txt | 29-Jun-2024 06:44 | 1.5K | ||