Name | Last modified | Size | Description | |
---|---|---|---|---|
Parent Directory | - | |||
checksrc-out.txt | 17-Jul-2024 06:39 | 3.8K | ||
checksrc-summary.dcf | 17-Jul-2024 06:39 | 427 | ||
buildsrc-out.txt | 17-Jul-2024 06:39 | 877 | ||
buildsrc-summary.dcf | 17-Jul-2024 06:39 | 422 | ||
install-summary.dcf | 17-Jul-2024 06:39 | 262 | ||
install-out.txt | 17-Jul-2024 06:39 | 966 | ||