Index of /checkResults/release/bioc-LATEST/safe/raw-results

[ICO]NameLast modifiedSizeDescription

[DIR]Parent Directory  -  
[   ]info.dcf10-Dec-2022 01:09 285  
[DIR]kjohnson/12-Jul-2022 00:06 -  
[DIR]lconway/10-Dec-2022 01:09 -  
[DIR]nebbiolo2/10-Dec-2022 01:06 -  
[DIR]palomino4/10-Dec-2022 01:08 -