Not Found
The requested URL /checkResults/release/bioc-LATEST/sRAP/ was not found on this server.