Index of /checkResults/release/bioc-LATEST/rsbml/raw-results

[ICO]NameLast modifiedSizeDescription

[DIR]Parent Directory  -  
[   ]info.dcf23-May-2024 00:34 268  
[DIR]kunpeng2/10-May-2024 00:41 -  
[DIR]nebbiolo1/23-May-2024 00:35 -  
[DIR]palomino3/23-May-2024 00:36 -