Name | Last modified | Size | Description | |
---|---|---|---|---|
Parent Directory | - | |||
buildbin-out.txt | 17-Jul-2024 06:40 | 1.1K | ||
buildbin-summary.dcf | 17-Jul-2024 06:40 | 512 | ||
buildsrc-out.txt | 17-Jul-2024 06:40 | 901 | ||
buildsrc-summary.dcf | 17-Jul-2024 06:40 | 450 | ||
checksrc-out.txt | 17-Jul-2024 06:40 | 4.1K | ||
checksrc-summary.dcf | 17-Jul-2024 06:40 | 445 | ||
install-out.txt | 17-Jul-2024 06:40 | 1.0K | ||
install-summary.dcf | 17-Jul-2024 06:40 | 267 | ||