Name | Last modified | Size | Description | |
---|---|---|---|---|
Parent Directory | - | |||
checksrc-out.txt | 17-Jul-2024 06:41 | 4.2K | ||
buildbin-out.txt | 17-Jul-2024 06:41 | 1.2K | ||
install-out.txt | 17-Jul-2024 06:41 | 1.0K | ||
buildsrc-out.txt | 17-Jul-2024 06:41 | 881 | ||
buildbin-summary.dcf | 17-Jul-2024 06:41 | 527 | ||
checksrc-summary.dcf | 17-Jul-2024 06:41 | 442 | ||
buildsrc-summary.dcf | 17-Jul-2024 06:41 | 426 | ||
install-summary.dcf | 17-Jul-2024 06:41 | 268 | ||