Name | Last modified | Size | Description | |
---|---|---|---|---|
Parent Directory | - | |||
install-summary.dcf | 19-May-2024 00:38 | 262 | ||
buildsrc-summary.dcf | 19-May-2024 00:38 | 414 | ||
checksrc-summary.dcf | 19-May-2024 00:38 | 430 | ||
buildbin-summary.dcf | 19-May-2024 00:38 | 509 | ||
buildsrc-out.txt | 19-May-2024 00:38 | 803 | ||
install-out.txt | 19-May-2024 00:38 | 1.0K | ||
buildbin-out.txt | 19-May-2024 00:38 | 1.2K | ||
checksrc-out.txt | 19-May-2024 00:38 | 3.4K | ||