Name | Last modified | Size | Description | |
---|---|---|---|---|
Parent Directory | - | |||
install-summary.dcf | 10-May-2024 00:41 | 263 | ||
buildsrc-summary.dcf | 10-May-2024 00:41 | 417 | ||
checksrc-summary.dcf | 10-May-2024 00:41 | 437 | ||
buildsrc-out.txt | 10-May-2024 00:41 | 804 | ||
install-out.txt | 10-May-2024 00:41 | 1.0K | ||
checksrc-out.txt | 10-May-2024 00:41 | 3.5K | ||