Index of /checkResults/release/bioc-LATEST/rnaEditr/raw-results

[ICO]NameLast modifiedSizeDescription

[DIR]Parent Directory  -  
[   ]info.dcf16-Aug-2022 02:23 273  
[DIR]merida1/16-Aug-2022 02:23 -  
[DIR]nebbiolo1/16-Aug-2022 02:20 -  
[DIR]palomino3/16-Aug-2022 02:22 -  
[DIR]riesling1/19-Mar-2022 00:08 -