Index of /checkResults/release/bioc-LATEST/riboSeqR/raw-results/merida1
Name
Last modified
Size
Description
Parent Directory
-
buildsrc-out.txt
05-Mar-2024 01:39
893
buildsrc-summary.dcf
05-Mar-2024 01:39
344
install-out.txt
05-Mar-2024 01:39
697
install-summary.dcf
05-Mar-2024 01:39
273