Back to Multiple platform build/check report for BioC 3.18:   simplified   long
ABCDEFGHIJKLMNOPQ[R]STUVWXYZ

This page was generated on 2024-02-27 11:37:04 -0500 (Tue, 27 Feb 2024).

HostnameOSArch (*)R versionInstalled pkgs
nebbiolo2Linux (Ubuntu 22.04.3 LTS)x86_644.3.2 Patched (2023-11-13 r85521) -- "Eye Holes" 4691
palomino4Windows Server 2022 Datacenterx644.3.2 (2023-10-31 ucrt) -- "Eye Holes" 4444
lconwaymacOS 12.7.1 Montereyx86_644.3.2 Patched (2023-11-01 r85457) -- "Eye Holes" 4465
Click on any hostname to see more info about the system (e.g. compilers)      (*) as reported by 'uname -p', except on Windows and Mac OS X

Package 1740/2266HostnameOS / ArchINSTALLBUILDCHECKBUILD BIN
rhdf5 2.46.1  (landing page)
Mike Smith
Snapshot Date: 2024-02-26 14:53:20 -0500 (Mon, 26 Feb 2024)
git_url: https://git.bioconductor.org/packages/rhdf5
git_branch: RELEASE_3_18
git_last_commit: 27bab89
git_last_commit_date: 2023-11-29 10:28:25 -0500 (Wed, 29 Nov 2023)
nebbiolo2Linux (Ubuntu 22.04.3 LTS) / x86_64  OK    OK    WARNINGS  UNNEEDED, same version is already published
palomino4Windows Server 2022 Datacenter / x64  OK    OK    OK    OK  UNNEEDED, same version is already published
lconwaymacOS 12.7.1 Monterey / x86_64  OK    OK    WARNINGS    OK  UNNEEDED, same version is already published
kjohnson1macOS 13.6.1 Ventura / arm64see weekly results here

CHECK results for rhdf5 on palomino4


To the developers/maintainers of the rhdf5 package:
- Allow up to 24 hours (and sometimes 48 hours) for your latest push to git@git.bioconductor.org:packages/rhdf5.git to reflect on this report. See Troubleshooting Build Report for more information.
- Use the following Renviron settings to reproduce errors and warnings.
- If 'R CMD check' started to fail recently on the Linux builder(s) over a missing dependency, add the missing dependency to 'Suggests:' in your DESCRIPTION file. See Renviron.bioc for more information.

raw results


Summary

Package: rhdf5
Version: 2.46.1
Command: F:\biocbuild\bbs-3.18-bioc\R\bin\R.exe CMD check --no-multiarch --install=check:rhdf5.install-out.txt --library=F:\biocbuild\bbs-3.18-bioc\R\library --no-vignettes --timings rhdf5_2.46.1.tar.gz
StartedAt: 2024-02-27 07:50:22 -0500 (Tue, 27 Feb 2024)
EndedAt: 2024-02-27 07:52:36 -0500 (Tue, 27 Feb 2024)
EllapsedTime: 134.5 seconds
RetCode: 0
Status:   OK  
CheckDir: rhdf5.Rcheck
Warnings: 0

Command output

##############################################################################
##############################################################################
###
### Running command:
###
###   F:\biocbuild\bbs-3.18-bioc\R\bin\R.exe CMD check --no-multiarch --install=check:rhdf5.install-out.txt --library=F:\biocbuild\bbs-3.18-bioc\R\library --no-vignettes --timings rhdf5_2.46.1.tar.gz
###
##############################################################################
##############################################################################


* using log directory 'F:/biocbuild/bbs-3.18-bioc/meat/rhdf5.Rcheck'
* using R version 4.3.2 (2023-10-31 ucrt)
* using platform: x86_64-w64-mingw32 (64-bit)
* R was compiled by
    gcc.exe (GCC) 12.3.0
    GNU Fortran (GCC) 12.3.0
* running under: Windows Server 2022 x64 (build 20348)
* using session charset: UTF-8
* using option '--no-vignettes'
* checking for file 'rhdf5/DESCRIPTION' ... OK
* checking extension type ... Package
* this is package 'rhdf5' version '2.46.1'
* package encoding: UTF-8
* checking package namespace information ... OK
* checking package dependencies ... OK
* checking if this is a source package ... OK
* checking if there is a namespace ... OK
* checking for hidden files and directories ... OK
* checking for portable file names ... OK
* checking whether package 'rhdf5' can be installed ... OK
* used C compiler: 'gcc.exe (GCC) 12.3.0'
* used C++ compiler: 'G__~1.EXE (GCC) 12.3.0'
* checking installed package size ... NOTE
  installed size is  7.6Mb
  sub-directories of 1Mb or more:
    libs   6.6Mb
* checking package directory ... OK
* checking 'build' directory ... OK
* checking DESCRIPTION meta-information ... OK
* checking top-level files ... OK
* checking for left-over files ... OK
* checking index information ... OK
* checking package subdirectories ... OK
* checking R files for non-ASCII characters ... OK
* checking R files for syntax errors ... OK
* checking whether the package can be loaded ... OK
* checking whether the package can be loaded with stated dependencies ... OK
* checking whether the package can be unloaded cleanly ... OK
* checking whether the namespace can be loaded with stated dependencies ... OK
* checking whether the namespace can be unloaded cleanly ... OK
* checking startup messages can be suppressed ... OK
* checking dependencies in R code ... NOTE
Namespace in Imports field not imported from: 'S4Vectors'
  All declared Imports should be used.
* checking S3 generic/method consistency ... OK
* checking replacement functions ... OK
* checking foreign function calls ... OK
* checking R code for possible problems ... OK
* checking Rd files ... OK
* checking Rd metadata ... OK
* checking Rd cross-references ... OK
* checking for missing documentation entries ... OK
* checking for code/documentation mismatches ... OK
* checking Rd \usage sections ... OK
* checking Rd contents ... OK
* checking for unstated dependencies in examples ... OK
* checking line endings in shell scripts ... OK
* checking line endings in C/C++/Fortran sources/headers ... OK
* checking line endings in Makefiles ... OK
* checking compilation flags in Makevars ... OK
* checking for GNU extensions in Makefiles ... NOTE
GNU make is a SystemRequirements.
* checking for portable use of $(BLAS_LIBS) and $(LAPACK_LIBS) ... OK
* checking use of PKG_*FLAGS in Makefiles ... OK
* checking compiled code ... NOTE
Note: information on .o files for x64 is not available
File 'F:/biocbuild/bbs-3.18-bioc/R/library/rhdf5/libs/x64/rhdf5.dll':
  Found '_assert', possibly from 'assert' (C)
  Found '_exit', possibly from '_exit' (C)
  Found 'abort', possibly from 'abort' (C), 'runtime' (Fortran)
  Found 'exit', possibly from 'exit' (C), 'stop' (Fortran)

Compiled code should not call entry points which might terminate R nor
write to stdout/stderr instead of to the console, nor use Fortran I/O
nor system RNGs nor [v]sprintf. The detected symbols are linked into
the code but might come from libraries and not actually be called.

See 'Writing portable packages' in the 'Writing R Extensions' manual.
* checking files in 'vignettes' ... OK
* checking examples ... OK
* checking for unstated dependencies in 'tests' ... OK
* checking tests ...
  Running 'testthat.R'
 OK
* checking for unstated dependencies in vignettes ... OK
* checking package vignettes in 'inst/doc' ... OK
* checking running R code from vignettes ... SKIPPED
* checking re-building of vignette outputs ... SKIPPED
* checking PDF version of manual ... OK
* DONE

Status: 4 NOTEs
See
  'F:/biocbuild/bbs-3.18-bioc/meat/rhdf5.Rcheck/00check.log'
for details.



Installation output

rhdf5.Rcheck/00install.out

##############################################################################
##############################################################################
###
### Running command:
###
###   F:\biocbuild\bbs-3.18-bioc\R\bin\R.exe CMD INSTALL rhdf5
###
##############################################################################
##############################################################################


* installing to library 'F:/biocbuild/bbs-3.18-bioc/R/library'
* installing *source* package 'rhdf5' ...
** using staged installation
** libs
Warning: this package has a non-empty 'configure.win' file,
so building only the main architecture

using C compiler: 'gcc.exe (GCC) 12.3.0'
using C++ compiler: 'G__~1.EXE (GCC) 12.3.0'
gcc  -I"F:/biocbuild/bbs-3.18-bioc/R/include" -DNDEBUG -D__USE_MINGW_ANSI_STDIO -I'F:/biocbuild/bbs-3.18-bioc/R/library/Rhdf5lib/include'   -I"C:/rtools43/x86_64-w64-mingw32.static.posix/include"     -O2 -Wall  -mfpmath=sse -msse2 -mstackrealign  -c H5.c -o H5.o
gcc  -I"F:/biocbuild/bbs-3.18-bioc/R/include" -DNDEBUG -D__USE_MINGW_ANSI_STDIO -I'F:/biocbuild/bbs-3.18-bioc/R/library/Rhdf5lib/include'   -I"C:/rtools43/x86_64-w64-mingw32.static.posix/include"     -O2 -Wall  -mfpmath=sse -msse2 -mstackrealign  -c H5A.c -o H5A.o
gcc  -I"F:/biocbuild/bbs-3.18-bioc/R/include" -DNDEBUG -D__USE_MINGW_ANSI_STDIO -I'F:/biocbuild/bbs-3.18-bioc/R/library/Rhdf5lib/include'   -I"C:/rtools43/x86_64-w64-mingw32.static.posix/include"     -O2 -Wall  -mfpmath=sse -msse2 -mstackrealign  -c H5D.c -o H5D.o
gcc  -I"F:/biocbuild/bbs-3.18-bioc/R/include" -DNDEBUG -D__USE_MINGW_ANSI_STDIO -I'F:/biocbuild/bbs-3.18-bioc/R/library/Rhdf5lib/include'   -I"C:/rtools43/x86_64-w64-mingw32.static.posix/include"     -O2 -Wall  -mfpmath=sse -msse2 -mstackrealign  -c H5E.c -o H5E.o
gcc  -I"F:/biocbuild/bbs-3.18-bioc/R/include" -DNDEBUG -D__USE_MINGW_ANSI_STDIO -I'F:/biocbuild/bbs-3.18-bioc/R/library/Rhdf5lib/include'   -I"C:/rtools43/x86_64-w64-mingw32.static.posix/include"     -O2 -Wall  -mfpmath=sse -msse2 -mstackrealign  -c H5F.c -o H5F.o
gcc  -I"F:/biocbuild/bbs-3.18-bioc/R/include" -DNDEBUG -D__USE_MINGW_ANSI_STDIO -I'F:/biocbuild/bbs-3.18-bioc/R/library/Rhdf5lib/include'   -I"C:/rtools43/x86_64-w64-mingw32.static.posix/include"     -O2 -Wall  -mfpmath=sse -msse2 -mstackrealign  -c H5G.c -o H5G.o
gcc  -I"F:/biocbuild/bbs-3.18-bioc/R/include" -DNDEBUG -D__USE_MINGW_ANSI_STDIO -I'F:/biocbuild/bbs-3.18-bioc/R/library/Rhdf5lib/include'   -I"C:/rtools43/x86_64-w64-mingw32.static.posix/include"     -O2 -Wall  -mfpmath=sse -msse2 -mstackrealign  -c H5I.c -o H5I.o
gcc  -I"F:/biocbuild/bbs-3.18-bioc/R/include" -DNDEBUG -D__USE_MINGW_ANSI_STDIO -I'F:/biocbuild/bbs-3.18-bioc/R/library/Rhdf5lib/include'   -I"C:/rtools43/x86_64-w64-mingw32.static.posix/include"     -O2 -Wall  -mfpmath=sse -msse2 -mstackrealign  -c H5L.c -o H5L.o
gcc  -I"F:/biocbuild/bbs-3.18-bioc/R/include" -DNDEBUG -D__USE_MINGW_ANSI_STDIO -I'F:/biocbuild/bbs-3.18-bioc/R/library/Rhdf5lib/include'   -I"C:/rtools43/x86_64-w64-mingw32.static.posix/include"     -O2 -Wall  -mfpmath=sse -msse2 -mstackrealign  -c H5O.c -o H5O.o
gcc  -I"F:/biocbuild/bbs-3.18-bioc/R/include" -DNDEBUG -D__USE_MINGW_ANSI_STDIO -I'F:/biocbuild/bbs-3.18-bioc/R/library/Rhdf5lib/include'   -I"C:/rtools43/x86_64-w64-mingw32.static.posix/include"     -O2 -Wall  -mfpmath=sse -msse2 -mstackrealign  -c H5P.c -o H5P.o
gcc  -I"F:/biocbuild/bbs-3.18-bioc/R/include" -DNDEBUG -D__USE_MINGW_ANSI_STDIO -I'F:/biocbuild/bbs-3.18-bioc/R/library/Rhdf5lib/include'   -I"C:/rtools43/x86_64-w64-mingw32.static.posix/include"     -O2 -Wall  -mfpmath=sse -msse2 -mstackrealign  -c H5R.c -o H5R.o
gcc  -I"F:/biocbuild/bbs-3.18-bioc/R/include" -DNDEBUG -D__USE_MINGW_ANSI_STDIO -I'F:/biocbuild/bbs-3.18-bioc/R/library/Rhdf5lib/include'   -I"C:/rtools43/x86_64-w64-mingw32.static.posix/include"     -O2 -Wall  -mfpmath=sse -msse2 -mstackrealign  -c H5S.c -o H5S.o
gcc  -I"F:/biocbuild/bbs-3.18-bioc/R/include" -DNDEBUG -D__USE_MINGW_ANSI_STDIO -I'F:/biocbuild/bbs-3.18-bioc/R/library/Rhdf5lib/include'   -I"C:/rtools43/x86_64-w64-mingw32.static.posix/include"     -O2 -Wall  -mfpmath=sse -msse2 -mstackrealign  -c H5S_extras.c -o H5S_extras.o
gcc  -I"F:/biocbuild/bbs-3.18-bioc/R/include" -DNDEBUG -D__USE_MINGW_ANSI_STDIO -I'F:/biocbuild/bbs-3.18-bioc/R/library/Rhdf5lib/include'   -I"C:/rtools43/x86_64-w64-mingw32.static.posix/include"     -O2 -Wall  -mfpmath=sse -msse2 -mstackrealign  -c H5T.c -o H5T.o
gcc  -I"F:/biocbuild/bbs-3.18-bioc/R/include" -DNDEBUG -D__USE_MINGW_ANSI_STDIO -I'F:/biocbuild/bbs-3.18-bioc/R/library/Rhdf5lib/include'   -I"C:/rtools43/x86_64-w64-mingw32.static.posix/include"     -O2 -Wall  -mfpmath=sse -msse2 -mstackrealign  -c H5T_extras.c -o H5T_extras.o
gcc  -I"F:/biocbuild/bbs-3.18-bioc/R/include" -DNDEBUG -D__USE_MINGW_ANSI_STDIO -I'F:/biocbuild/bbs-3.18-bioc/R/library/Rhdf5lib/include'   -I"C:/rtools43/x86_64-w64-mingw32.static.posix/include"     -O2 -Wall  -mfpmath=sse -msse2 -mstackrealign  -c H5Z.c -o H5Z.o
gcc  -I"F:/biocbuild/bbs-3.18-bioc/R/include" -DNDEBUG -D__USE_MINGW_ANSI_STDIO -I'F:/biocbuild/bbs-3.18-bioc/R/library/Rhdf5lib/include'   -I"C:/rtools43/x86_64-w64-mingw32.static.posix/include"     -O2 -Wall  -mfpmath=sse -msse2 -mstackrealign  -c H5constants.c -o H5constants.o
g++ -std=gnu++17  -I"F:/biocbuild/bbs-3.18-bioc/R/include" -DNDEBUG -D__USE_MINGW_ANSI_STDIO -I'F:/biocbuild/bbs-3.18-bioc/R/library/Rhdf5lib/include'   -I"C:/rtools43/x86_64-w64-mingw32.static.posix/include"     -O2 -Wall  -mfpmath=sse -msse2 -mstackrealign  -c HandleList.cpp -o HandleList.o
gcc  -I"F:/biocbuild/bbs-3.18-bioc/R/include" -DNDEBUG -D__USE_MINGW_ANSI_STDIO -I'F:/biocbuild/bbs-3.18-bioc/R/library/Rhdf5lib/include'   -I"C:/rtools43/x86_64-w64-mingw32.static.posix/include"     -O2 -Wall  -mfpmath=sse -msse2 -mstackrealign  -c HandleListWrap.c -o HandleListWrap.o
gcc  -I"F:/biocbuild/bbs-3.18-bioc/R/include" -DNDEBUG -D__USE_MINGW_ANSI_STDIO -I'F:/biocbuild/bbs-3.18-bioc/R/library/Rhdf5lib/include'   -I"C:/rtools43/x86_64-w64-mingw32.static.posix/include"     -O2 -Wall  -mfpmath=sse -msse2 -mstackrealign  -c bit64conversion.c -o bit64conversion.o
gcc  -I"F:/biocbuild/bbs-3.18-bioc/R/include" -DNDEBUG -D__USE_MINGW_ANSI_STDIO -I'F:/biocbuild/bbs-3.18-bioc/R/library/Rhdf5lib/include'   -I"C:/rtools43/x86_64-w64-mingw32.static.posix/include"     -O2 -Wall  -mfpmath=sse -msse2 -mstackrealign  -c external_filters.c -o external_filters.o
gcc  -I"F:/biocbuild/bbs-3.18-bioc/R/include" -DNDEBUG -D__USE_MINGW_ANSI_STDIO -I'F:/biocbuild/bbs-3.18-bioc/R/library/Rhdf5lib/include'   -I"C:/rtools43/x86_64-w64-mingw32.static.posix/include"     -O2 -Wall  -mfpmath=sse -msse2 -mstackrealign  -c h5dump.c -o h5dump.o
gcc  -I"F:/biocbuild/bbs-3.18-bioc/R/include" -DNDEBUG -D__USE_MINGW_ANSI_STDIO -I'F:/biocbuild/bbs-3.18-bioc/R/library/Rhdf5lib/include'   -I"C:/rtools43/x86_64-w64-mingw32.static.posix/include"     -O2 -Wall  -mfpmath=sse -msse2 -mstackrealign  -c h5ls.c -o h5ls.o
gcc  -I"F:/biocbuild/bbs-3.18-bioc/R/include" -DNDEBUG -D__USE_MINGW_ANSI_STDIO -I'F:/biocbuild/bbs-3.18-bioc/R/library/Rhdf5lib/include'   -I"C:/rtools43/x86_64-w64-mingw32.static.posix/include"     -O2 -Wall  -mfpmath=sse -msse2 -mstackrealign  -c h5testLock.c -o h5testLock.o
gcc  -I"F:/biocbuild/bbs-3.18-bioc/R/include" -DNDEBUG -D__USE_MINGW_ANSI_STDIO -I'F:/biocbuild/bbs-3.18-bioc/R/library/Rhdf5lib/include'   -I"C:/rtools43/x86_64-w64-mingw32.static.posix/include"     -O2 -Wall  -mfpmath=sse -msse2 -mstackrealign  -c h5writeDataFrame.c -o h5writeDataFrame.o
gcc  -I"F:/biocbuild/bbs-3.18-bioc/R/include" -DNDEBUG -D__USE_MINGW_ANSI_STDIO -I'F:/biocbuild/bbs-3.18-bioc/R/library/Rhdf5lib/include'   -I"C:/rtools43/x86_64-w64-mingw32.static.posix/include"     -O2 -Wall  -mfpmath=sse -msse2 -mstackrealign  -c printdatatype.c -o printdatatype.o
gcc  -I"F:/biocbuild/bbs-3.18-bioc/R/include" -DNDEBUG -D__USE_MINGW_ANSI_STDIO -I'F:/biocbuild/bbs-3.18-bioc/R/library/Rhdf5lib/include'   -I"C:/rtools43/x86_64-w64-mingw32.static.posix/include"     -O2 -Wall  -mfpmath=sse -msse2 -mstackrealign  -c utils.c -o utils.o
gcc  -I"F:/biocbuild/bbs-3.18-bioc/R/include" -DNDEBUG -D__USE_MINGW_ANSI_STDIO -I'F:/biocbuild/bbs-3.18-bioc/R/library/Rhdf5lib/include'   -I"C:/rtools43/x86_64-w64-mingw32.static.posix/include"     -O2 -Wall  -mfpmath=sse -msse2 -mstackrealign  -c wrap.c -o wrap.o
g++ -std=gnu++17 -shared -s -static-libgcc -o rhdf5.dll tmp.def H5.o H5A.o H5D.o H5E.o H5F.o H5G.o H5I.o H5L.o H5O.o H5P.o H5R.o H5S.o H5S_extras.o H5T.o H5T_extras.o H5Z.o H5constants.o HandleList.o HandleListWrap.o bit64conversion.o external_filters.o h5dump.o h5ls.o h5testLock.o h5writeDataFrame.o printdatatype.o utils.o wrap.o -LF:/biocbuild/bbs-3.18-bioc/R/library/Rhdf5lib/lib/x64-ucrt -lhdf5 -lcurl -lssh2 -lssl -lcrypto -lwldap32 -lws2_32 -lcrypt32 -lsz -laec -lz -lpsapi -LC:/rtools43/x86_64-w64-mingw32.static.posix/lib/x64 -LC:/rtools43/x86_64-w64-mingw32.static.posix/lib -LF:/biocbuild/bbs-3.18-bioc/R/bin/x64 -lR
installing to F:/biocbuild/bbs-3.18-bioc/R/library/00LOCK-rhdf5/00new/rhdf5/libs/x64
** R
** inst
** byte-compile and prepare package for lazy loading
** help
*** installing help indices
*** copying figures
** building package indices
** installing vignettes
** testing if installed package can be loaded from temporary location
** testing if installed package can be loaded from final location
** testing if installed package keeps a record of temporary installation path
* DONE (rhdf5)

Tests output

rhdf5.Rcheck/tests/testthat.Rout


R version 4.3.2 (2023-10-31 ucrt) -- "Eye Holes"
Copyright (C) 2023 The R Foundation for Statistical Computing
Platform: x86_64-w64-mingw32/x64 (64-bit)

R is free software and comes with ABSOLUTELY NO WARRANTY.
You are welcome to redistribute it under certain conditions.
Type 'license()' or 'licence()' for distribution details.

R is a collaborative project with many contributors.
Type 'contributors()' for more information and
'citation()' on how to cite R or R packages in publications.

Type 'demo()' for some demos, 'help()' for on-line help, or
'help.start()' for an HTML browser interface to help.
Type 'q()' to quit R.

> library(testthat)
> library(rhdf5)
> 
> test_check("rhdf5")
[ FAIL 0 | WARN 0 | SKIP 2 | PASS 1075 ]

══ Skipped tests (2) ═══════════════════════════════════════════════════════════
• On CRAN (2): 'test_S3.R:19:9', 'test_S3.R:28:9'

[ FAIL 0 | WARN 0 | SKIP 2 | PASS 1075 ]
> 
> proc.time()
   user  system elapsed 
   7.96    1.67   31.45 

Example timings

rhdf5.Rcheck/rhdf5-Ex.timings

nameusersystemelapsed
H5Dopen0.020.000.11
H5Fget_name000
H5Gget_info0.000.002.39
H5Iget_type000
H5Iis_valid000
H5Lcreate_external0.000.000.03
H5Ldelete0.000.000.02
H5Lmove0.040.020.07
H5Ocopy0.010.000.04
H5Olink0.000.000.02
H5Oopen0.000.030.03
H5P_create_intermediate_group000
H5Pset_fapl_ros3000
H5R0.010.000.04
H5Scombine_hyperslab000
H5Scombine_select000
H5Sselect_hyperslab000
H5Sselect_index000
H5T_enum000
H5functions000
h5_FileLocking0.000.020.02
h5_createAttribute0.030.000.06
h5_createDataset0.120.023.03
h5_createFile0.000.000.08
h5_createGroup0.000.000.03
h5_dump0.000.000.05
h5_errorHandling000
h5_read0.070.000.23
h5_save0.030.000.07
h5_set_extent0.010.000.03
h5_write0.030.000.17
h5closeAll0.020.000.01
h5constants000
h5listObjects0.000.000.04
h5ls0.020.000.03
h5version000