Back to Multiple platform build/check report for BioC 3.14
ABCDEFGHIJKLMNOPQ[R]STUVWXYZ

This page was generated on 2021-12-01 17:18:30 -0500 (Wed, 01 Dec 2021).

BUILD results for restfulSE on machv2

To the developers/maintainers of the restfulSE package:
- Please allow up to 24 hours (and sometimes 48 hours) for your latest push to git@git.bioconductor.org:packages/restfulSE.git to
reflect on this report. See How and When does the builder pull? When will my changes propagate? here for more information.
- Make sure to use the following settings in order to reproduce any error or warning you see on this page.

raw results

Package 1583/2083HostnameOS / ArchINSTALLBUILDCHECKBUILD BIN
restfulSE 1.16.0  (landing page)
Shweta Gopaulakrishnan
Snapshot Date: 2021-11-30 04:15:05 -0500 (Tue, 30 Nov 2021)
git_url: https://git.bioconductor.org/packages/restfulSE
git_branch: RELEASE_3_14
git_last_commit: 61a70ed
git_last_commit_date: 2021-10-26 12:38:23 -0500 (Tue, 26 Oct 2021)
nebbiolo2Linux (Ubuntu 20.04.3 LTS) / x86_64  OK    OK    OK  UNNEEDED, same version is already published
tokay2Windows Server 2012 R2 Standard / x64  OK    OK    OK    OK  UNNEEDED, same version is already published
machv2macOS 10.14.6 Mojave / x86_64  OK    OK    OK    OK  UNNEEDED, same version is already published

Summary

Package: restfulSE
Version: 1.16.0
Command: /Library/Frameworks/R.framework/Resources/bin/R CMD build --keep-empty-dirs --no-resave-data restfulSE
StartedAt: 2021-11-30 11:40:23 -0500 (Tue, 30 Nov 2021)
EndedAt: 2021-11-30 11:42:25 -0500 (Tue, 30 Nov 2021)
EllapsedTime: 121.8 seconds
RetCode: 0
Status:   OK  
PackageFile: restfulSE_1.16.0.tar.gz
PackageFileSize: 383.9 KiB

Command output

##############################################################################
##############################################################################
###
### Running command:
###
###   /Library/Frameworks/R.framework/Resources/bin/R CMD build --keep-empty-dirs --no-resave-data restfulSE
###
##############################################################################
##############################################################################


* checking for file ‘restfulSE/DESCRIPTION’ ... OK
* preparing ‘restfulSE’:
* checking DESCRIPTION meta-information ... OK
* installing the package to build vignettes
* creating vignettes ... OK
* checking for LF line-endings in source and make files and shell scripts
* checking for empty or unneeded directories
* building ‘restfulSE_1.16.0.tar.gz’