Back to Multiple platform build/check report for BioC 3.14
ABCDEFGHIJKLMNOPQ[R]STUVWXYZ

This page was generated on 2021-12-03 13:05:29 -0500 (Fri, 03 Dec 2021).

BUILD BIN results for regutools on tokay2

To the developers/maintainers of the regutools package:
- Please allow up to 24 hours (and sometimes 48 hours) for your latest push to git@git.bioconductor.org:packages/regutools.git to
reflect on this report. See How and When does the builder pull? When will my changes propagate? here for more information.
- Make sure to use the following settings in order to reproduce any error or warning you see on this page.

raw results

Package 1576/2083HostnameOS / ArchINSTALLBUILDCHECKBUILD BIN
regutools 1.6.0  (landing page)
Joselyn Chavez
Snapshot Date: 2021-12-02 01:55:06 -0500 (Thu, 02 Dec 2021)
git_url: https://git.bioconductor.org/packages/regutools
git_branch: RELEASE_3_14
git_last_commit: 3795415
git_last_commit_date: 2021-10-26 12:59:29 -0500 (Tue, 26 Oct 2021)
nebbiolo2Linux (Ubuntu 20.04.3 LTS) / x86_64  OK    OK    OK  UNNEEDED, same version is already published
tokay2Windows Server 2012 R2 Standard / x64  OK    OK    OK    OK  UNNEEDED, same version is already published
machv2macOS 10.14.6 Mojave / x86_64  OK    OK    OK    OK  UNNEEDED, same version is already published

Summary

Package: regutools
Version: 1.6.0
Command: rm -rf regutools.buildbin-libdir && mkdir regutools.buildbin-libdir && C:\Users\biocbuild\bbs-3.14-bioc\R\bin\R.exe CMD INSTALL --merge-multiarch --build --library=regutools.buildbin-libdir regutools_1.6.0.tar.gz
StartedAt: 2021-12-03 09:44:15 -0500 (Fri, 03 Dec 2021)
EndedAt: 2021-12-03 09:45:35 -0500 (Fri, 03 Dec 2021)
EllapsedTime: 79.9 seconds
RetCode: 0
Status:   OK  
PackageFile: regutools_1.6.0.zip
PackageFileSize: 922.3 KiB

Command output

##############################################################################
##############################################################################
###
### Running command:
###
###   rm -rf regutools.buildbin-libdir && mkdir regutools.buildbin-libdir && C:\Users\biocbuild\bbs-3.14-bioc\R\bin\R.exe CMD INSTALL --merge-multiarch --build --library=regutools.buildbin-libdir regutools_1.6.0.tar.gz
###
##############################################################################
##############################################################################



install for i386

* installing *source* package 'regutools' ...
** using staged installation
** R
** inst
** byte-compile and prepare package for lazy loading
** help
*** installing help indices
  converting help for package 'regutools'
    finding HTML links ... done
    build_condition                         html  
    connect_database                        html  
    convert_to_biostrings                   html  
    convert_to_granges                      html  
    existing_intervals                      html  
    existing_partial_match                  html  
    get_binding_sites                       html  
    get_dataset                             html  
    get_dna_objects                         html  
    get_gene_regulators                     html  
    get_gene_synonyms                       html  
    get_regulatory_network                  html  
    get_regulatory_summary                  html  
    guess_id                                html  
    list_attributes                         html  
    list_datasets                           html  
    non_existing_intervals                  html  
    plot_dna_objects                        html  
    regulondb-class                         html  
    regulondb-methods                       html  
    regulondb                               html  
    regulondb_result-class                  html  
    regutools-package                       html  
*** copying figures
** building package indices
** installing vignettes
** testing if installed package can be loaded from temporary location
** testing if installed package can be loaded from final location
** testing if installed package keeps a record of temporary installation path

install for x64

* installing *source* package 'regutools' ...
** testing if installed package can be loaded
* MD5 sums
packaged installation of 'regutools' as regutools_1.6.0.zip
* DONE (regutools)