Name | Last modified | Size | Description | |
---|---|---|---|---|
Parent Directory | - | |||
install-summary.dcf | 10-Jul-2024 06:41 | 270 | ||
install-out.txt | 10-Jul-2024 06:41 | 965 | ||
checksrc-summary.dcf | 10-Jul-2024 06:41 | 452 | ||
checksrc-out.txt | 10-Jul-2024 06:41 | 3.7K | ||
buildsrc-summary.dcf | 10-Jul-2024 06:41 | 457 | ||
buildsrc-out.txt | 10-Jul-2024 06:41 | 844 | ||
buildbin-summary.dcf | 10-Jul-2024 06:41 | 520 | ||
buildbin-out.txt | 10-Jul-2024 06:41 | 1.1K | ||