Index of /checkResults/release/bioc-LATEST/recoup/raw-results/palomino3

[ICO]NameLast modifiedSizeDescription

[DIR]Parent Directory  -  
[TXT]buildbin-out.txt15-Jun-2024 03:38 1.1K 
[   ]buildbin-summary.dcf15-Jun-2024 03:38 510  
[TXT]buildsrc-out.txt15-Jun-2024 03:38 834  
[   ]buildsrc-summary.dcf15-Jun-2024 03:38 449  
[TXT]checksrc-out.txt15-Jun-2024 03:38 5.1K 
[   ]checksrc-summary.dcf15-Jun-2024 03:38 443  
[TXT]install-out.txt15-Jun-2024 03:38 1.0K 
[   ]install-summary.dcf15-Jun-2024 03:38 266