Index of /checkResults/release/bioc-LATEST/recoup/raw-results/nebbiolo1

[ICO]NameLast modifiedSizeDescription

[DIR]Parent Directory  -  
[TXT]buildsrc-out.txt19-Jun-2024 06:58 802  
[   ]buildsrc-summary.dcf19-Jun-2024 06:58 414  
[TXT]checksrc-out.txt19-Jun-2024 06:58 5.2K 
[   ]checksrc-summary.dcf19-Jun-2024 06:58 410  
[TXT]install-out.txt19-Jun-2024 06:58 1.0K 
[   ]install-summary.dcf19-Jun-2024 06:58 257