Index of /checkResults/release/bioc-LATEST/recount/raw-results/palomino3

[ICO]NameLast modifiedSizeDescription

[DIR]Parent Directory  -  
[TXT]buildbin-out.txt22-Jun-2024 06:40 1.1K 
[   ]buildbin-summary.dcf22-Jun-2024 06:40 516  
[TXT]buildsrc-out.txt22-Jun-2024 06:40 1.2K 
[   ]buildsrc-summary.dcf22-Jun-2024 06:40 453  
[TXT]checksrc-out.txt22-Jun-2024 06:40 3.8K 
[   ]checksrc-summary.dcf22-Jun-2024 06:40 448  
[TXT]install-out.txt22-Jun-2024 06:40 1.0K 
[   ]install-summary.dcf22-Jun-2024 06:40 268