Index of /checkResults/release/bioc-LATEST/recount/raw-results/merida1

[ICO]NameLast modifiedSizeDescription

[DIR]Parent Directory  -  
[TXT]install-out.txt17-Jul-2024 06:41 1.0K 
[   ]install-summary.dcf17-Jul-2024 06:41 270  
[TXT]buildsrc-out.txt17-Jul-2024 06:41 1.1K 
[   ]buildsrc-summary.dcf17-Jul-2024 06:41 428  
[TXT]checksrc-out.txt17-Jul-2024 06:41 3.8K 
[   ]checksrc-summary.dcf17-Jul-2024 06:41 444  
[TXT]buildbin-out.txt17-Jul-2024 06:41 1.2K 
[   ]buildbin-summary.dcf17-Jul-2024 06:41 531