Index of /checkResults/release/bioc-LATEST/recount/raw-results/lconway
Name
Last modified
Size
Description
Parent Directory
-
buildsrc-out.txt
03-May-2024 00:40
4.0K
buildsrc-summary.dcf
03-May-2024 00:40
345
install-out.txt
03-May-2024 00:40
1.0K
install-summary.dcf
03-May-2024 00:40
269