Index of /checkResults/release/bioc-LATEST/reconsi/raw-results
Name
Last modified
Size
Description
Parent Directory
-
info.dcf
30-Mar-2024 00:35
280
kunpeng2/
03-Nov-2023 00:41
-
lconway/
05-Mar-2024 01:37
-
merida1/
30-Mar-2024 00:38
-
nebbiolo2/
30-Mar-2024 00:36
-
palomino4/
30-Mar-2024 00:37
-