Name | Last modified | Size | Description | |
---|---|---|---|---|
Parent Directory | - | |||
buildsrc-out.txt | 03-May-2024 00:42 | 813 | ||
buildsrc-summary.dcf | 03-May-2024 00:42 | 423 | ||
checksrc-out.txt | 03-May-2024 00:42 | 4.1K | ||
checksrc-summary.dcf | 03-May-2024 00:42 | 453 | ||
install-out.txt | 03-May-2024 00:42 | 971 | ||
install-summary.dcf | 03-May-2024 00:42 | 267 | ||