Back to Multiple platform build/check report for BioC 3.12
ABCDEFGHIJKLMNOPQ[R]STUVWXYZ

Multiple platform build/check report for BioC 3.12

Results for randRotation

This page was generated on 2020-11-23 12:11:21 -0500 (Mon, 23 Nov 2020).

Package 1452/1974HostnameOS / ArchINSTALLBUILDCHECKBUILD BIN
randRotation 1.2.1
Peter Hettegger
Snapshot Date: 2020-11-22 14:42:09 -0500 (Sun, 22 Nov 2020)
URL: https://git.bioconductor.org/packages/randRotation
Branch: RELEASE_3_12
Last Commit: a4d468b
Last Changed Date: 2020-11-15 12:40:32 -0500 (Sun, 15 Nov 2020)
malbec1 Linux (Ubuntu 18.04.4 LTS) / x86_64  OK  OK  OK UNNEEDED, same version exists in internal repository
nebbiolo1 Linux (Ubuntu 20.04.1 LTS) / x86_64  OK  OK  OK 
tokay1 Windows Server 2012 R2 Standard / x64  OK  OK  OK  OK UNNEEDED, same version exists in internal repository
merida1 macOS 10.14.6 Mojave / x86_64  OK  OK  OK  OK UNNEEDED, same version exists in internal repository