Index of /checkResults/release/bioc-LATEST/ramwas/raw-results/palomino3

[ICO]NameLast modifiedSizeDescription

[DIR]Parent Directory  -  
[TXT]buildbin-out.txt15-Jun-2024 03:38 1.6K 
[   ]buildbin-summary.dcf15-Jun-2024 03:38 510  
[TXT]buildsrc-out.txt15-Jun-2024 03:38 866  
[   ]buildsrc-summary.dcf15-Jun-2024 03:38 449  
[TXT]checksrc-out.txt15-Jun-2024 03:38 3.9K 
[   ]checksrc-summary.dcf15-Jun-2024 03:38 443  
[TXT]install-out.txt15-Jun-2024 03:38 1.5K 
[   ]install-summary.dcf15-Jun-2024 03:38 266