Index of /checkResults/release/bioc-LATEST/ramwas/raw-results/nebbiolo1

[ICO]NameLast modifiedSizeDescription

[DIR]Parent Directory  -  
[TXT]buildsrc-out.txt15-Jun-2024 03:37 832  
[   ]buildsrc-summary.dcf15-Jun-2024 03:37 414  
[TXT]checksrc-out.txt15-Jun-2024 03:37 3.4K 
[   ]checksrc-summary.dcf15-Jun-2024 03:37 410  
[TXT]install-out.txt15-Jun-2024 03:37 1.4K 
[   ]install-summary.dcf15-Jun-2024 03:37 257