Index of /checkResults/release/bioc-LATEST/ramwas/raw-results/merida1

[ICO]NameLast modifiedSizeDescription

[DIR]Parent Directory  -  
[   ]install-summary.dcf10-Jul-2024 06:42 267  
[TXT]install-out.txt10-Jul-2024 06:42 1.7K 
[   ]checksrc-summary.dcf10-Jul-2024 06:42 440  
[TXT]checksrc-out.txt10-Jul-2024 06:42 3.5K 
[   ]buildsrc-summary.dcf10-Jul-2024 06:42 425  
[TXT]buildsrc-out.txt10-Jul-2024 06:42 842  
[   ]buildbin-summary.dcf10-Jul-2024 06:42 524  
[TXT]buildbin-out.txt10-Jul-2024 06:42 3.6K