Index of /checkResults/release/bioc-LATEST/raer/raw-results/palomino3

[ICO]NameLast modifiedSizeDescription

[DIR]Parent Directory  -  
[TXT]buildbin-out.txt22-Jun-2024 06:40 4.5K 
[   ]buildbin-summary.dcf22-Jun-2024 06:40 495  
[TXT]buildsrc-out.txt22-Jun-2024 06:40 855  
[   ]buildsrc-summary.dcf22-Jun-2024 06:40 440  
[TXT]checksrc-out.txt22-Jun-2024 06:40 4.7K 
[   ]checksrc-summary.dcf22-Jun-2024 06:40 433  
[TXT]install-out.txt22-Jun-2024 06:40 4.4K 
[   ]install-summary.dcf22-Jun-2024 06:40 261