Index of /checkResults/release/bioc-LATEST/raer/raw-results/nebbiolo1

[ICO]NameLast modifiedSizeDescription

[DIR]Parent Directory  -  
[TXT]buildsrc-out.txt15-Jun-2024 03:37 823  
[   ]buildsrc-summary.dcf15-Jun-2024 03:37 405  
[TXT]checksrc-out.txt15-Jun-2024 03:37 4.4K 
[   ]checksrc-summary.dcf15-Jun-2024 03:37 400  
[TXT]install-out.txt15-Jun-2024 03:37 3.7K 
[   ]install-summary.dcf15-Jun-2024 03:37 252